BEGIN:VCALENDAR
VERSION:2.0
PRODID:-//Cours de cuisine By Serge Labrosse - ECPv5.8.0//NONSGML v1.0//EN
CALSCALE:GREGORIAN
METHOD:PUBLISH
X-WR-CALNAME:Cours de cuisine By Serge Labrosse
X-ORIGINAL-URL:https://dev21.cours-de-cuisine-geneve.ch
X-WR-CALDESC:évènements pour Cours de cuisine By Serge Labrosse
BEGIN:VTIMEZONE
TZID:Europe/Paris
BEGIN:DAYLIGHT
TZOFFSETFROM:+0100
TZOFFSETTO:+0200
TZNAME:CEST
DTSTART:20180325T010000
END:DAYLIGHT
BEGIN:STANDARD
TZOFFSETFROM:+0200
TZOFFSETTO:+0100
TZNAME:CET
DTSTART:20181028T010000
END:STANDARD
END:VTIMEZONE
BEGIN:VEVENT
DTSTART;TZID=Europe/Paris:20180410T190000
DTEND;TZID=Europe/Paris:20180410T220000
DTSTAMP:20260419T201823
CREATED:20180304T173749Z
LAST-MODIFIED:20180407T084414Z
UID:7497-1523386800-1523397600@dev21.cours-de-cuisine-geneve.ch
SUMMARY:Cours Fusion Asie
DESCRIPTION:Vous avez envie de voyager ? Partez pour l’Asie pour une soirée et découvrez des recettes aux parfums d’Extrême Orient ! \nMaki de thon rouge en tempura\n Crème d’avocat et oignons rouges\n ***\nMagret de Canard laqué au miel et soja\,\nGyoza à la crème de carottes et yuzu\n ***\nMangue flambée\, glace minute et coriandre \nLe montant de cet atelier comprend : la préparation\, le menu et 3 verres de vins
URL:https://dev21.cours-de-cuisine-geneve.ch/details/cours-fusion-asie-3/
CATEGORIES:Cours de cuisine
ATTACH;FMTTYPE=image/jpeg:https://dev21.cours-de-cuisine-geneve.ch/wp-content/uploads/2017/05/atelier-cours-cuisine-geneve-plats-thai.jpg
ORGANIZER;CN="Ateliers%20by%20Serge%20Labrosse":MAILTO:contact@ateliersbysergelabrosse.ch
END:VEVENT
END:VCALENDAR