BEGIN:VCALENDAR
VERSION:2.0
PRODID:-//Cours de cuisine By Serge Labrosse - ECPv5.8.0//NONSGML v1.0//EN
CALSCALE:GREGORIAN
METHOD:PUBLISH
X-WR-CALNAME:Cours de cuisine By Serge Labrosse
X-ORIGINAL-URL:https://dev21.cours-de-cuisine-geneve.ch
X-WR-CALDESC:évènements pour Cours de cuisine By Serge Labrosse
BEGIN:VTIMEZONE
TZID:Europe/Paris
BEGIN:DAYLIGHT
TZOFFSETFROM:+0100
TZOFFSETTO:+0200
TZNAME:CEST
DTSTART:20190331T010000
END:DAYLIGHT
BEGIN:STANDARD
TZOFFSETFROM:+0200
TZOFFSETTO:+0100
TZNAME:CET
DTSTART:20191027T010000
END:STANDARD
END:VTIMEZONE
BEGIN:VEVENT
DTSTART;TZID=Europe/Paris:20191106T184500
DTEND;TZID=Europe/Paris:20191106T223000
DTSTAMP:20260419T184128
CREATED:20191018T110250Z
LAST-MODIFIED:20191018T110250Z
UID:12697-1573065900-1573079400@dev21.cours-de-cuisine-geneve.ch
SUMMARY:Cours de Cuisine Orientale
DESCRIPTION:Nous vous vous invitons à découvrir la cuisine traditionnelle Orientale avec Dara\, d’origine Syrienne et passionnée par les plaisirs de la table\, vous apprendrez à préparer les plats typiques qui font la réputation de cette gastronomie \nVenez ajouter un peu de soleil dans vos assiettes avec ces spécialités méditerranéennes\, familiales et gourmandes. \nRégalez vos convives avec cette cuisine de partage. \n\nLe menu \nSamousa végétarien. \nMograbieh (maftoul) pâte de blé\, oignons\, pois chiche et poulet. \nDouceurs orientales \n\nLe cours comprends le support de cours\, deux verres de vin\, eaux minérales et café.
URL:https://dev21.cours-de-cuisine-geneve.ch/details/cours-de-cuisine-orientale/
CATEGORIES:Dara Issa
ATTACH;FMTTYPE=image/jpeg:https://dev21.cours-de-cuisine-geneve.ch/wp-content/uploads/2019/02/Depositphotos_157251166_xl-2015.jpg
END:VEVENT
END:VCALENDAR