BEGIN:VCALENDAR
VERSION:2.0
PRODID:-//Cours de cuisine By Serge Labrosse - ECPv5.8.0//NONSGML v1.0//EN
CALSCALE:GREGORIAN
METHOD:PUBLISH
X-WR-CALNAME:Cours de cuisine By Serge Labrosse
X-ORIGINAL-URL:https://dev21.cours-de-cuisine-geneve.ch
X-WR-CALDESC:évènements pour Cours de cuisine By Serge Labrosse
BEGIN:VTIMEZONE
TZID:Europe/Paris
BEGIN:DAYLIGHT
TZOFFSETFROM:+0100
TZOFFSETTO:+0200
TZNAME:CEST
DTSTART:20180325T010000
END:DAYLIGHT
BEGIN:STANDARD
TZOFFSETFROM:+0200
TZOFFSETTO:+0100
TZNAME:CET
DTSTART:20181028T010000
END:STANDARD
END:VTIMEZONE
BEGIN:VEVENT
DTSTART;TZID=Europe/Paris:20180606T190000
DTEND;TZID=Europe/Paris:20180606T220000
DTSTAMP:20260420T080149
CREATED:20180528T124614Z
LAST-MODIFIED:20180528T130235Z
UID:8142-1528311600-1528322400@dev21.cours-de-cuisine-geneve.ch
SUMMARY:Cours de cuisine de tous les jours
DESCRIPTION:Parce que nous ne sommes pas tous des as de la cuisine\, cet atelier vous invite à découvrir des recettes simples à refaire chez vous\, une cuisine de tous les jours ! \nPetites ravioles de saumon et ricotta\nCrème verte et citrons\n***\nPavé de bœuf en croûte de feuille de brick et tomates séchées\nCaviar d’aubergine brûlée et petits légumes au yaourt mentholé\n***\nFraises\, estragon et double crème  \nLe montant de cet atelier comprend : la préparation\, le menu et 3 verres de vin
URL:https://dev21.cours-de-cuisine-geneve.ch/details/cours-de-cuisine-de-tous-les-jours/
CATEGORIES:Cours de cuisine
ATTACH;FMTTYPE=image/jpeg:https://dev21.cours-de-cuisine-geneve.ch/wp-content/uploads/2017/04/ateliers-de-cuisine-serge-labrosse-geneve.jpg
ORGANIZER;CN="Ateliers%20by%20Serge%20Labrosse":MAILTO:contact@ateliersbysergelabrosse.ch
END:VEVENT
END:VCALENDAR