BEGIN:VCALENDAR
VERSION:2.0
PRODID:-//Cours de cuisine By Serge Labrosse - ECPv5.8.0//NONSGML v1.0//EN
CALSCALE:GREGORIAN
METHOD:PUBLISH
X-WR-CALNAME:Cours de cuisine By Serge Labrosse
X-ORIGINAL-URL:https://dev21.cours-de-cuisine-geneve.ch
X-WR-CALDESC:évènements pour Cours de cuisine By Serge Labrosse
BEGIN:VTIMEZONE
TZID:Europe/Paris
BEGIN:DAYLIGHT
TZOFFSETFROM:+0100
TZOFFSETTO:+0200
TZNAME:CEST
DTSTART:20180325T010000
END:DAYLIGHT
BEGIN:STANDARD
TZOFFSETFROM:+0200
TZOFFSETTO:+0100
TZNAME:CET
DTSTART:20181028T010000
END:STANDARD
END:VTIMEZONE
BEGIN:VEVENT
DTSTART;TZID=Europe/Paris:20181109T190000
DTEND;TZID=Europe/Paris:20181109T220000
DTSTAMP:20260419T231652
CREATED:20180720T093206Z
LAST-MODIFIED:20180720T093206Z
UID:8398-1541790000-1541800800@dev21.cours-de-cuisine-geneve.ch
SUMMARY:Cours Chasse
DESCRIPTION:Cet atelier vous propose des recettes de chasse savoureuses et originales.  Vous découvrirez comment apprêter et cuisiner de délicieuses recettes dans ambiance chaleureuse et conviviale \nRavioles de sanglier confit\, pommade de butternut et châtaignes \nChevreuil laqué à l’hibiscus et au poivre voatsiperifery \, pommade de châtaignes et poire pochée \nPomme confite spéculoos et espuma \nLe montant de cet atelier comprend : la préparation\, la dégustation du  menu et 3 verres de vin
URL:https://dev21.cours-de-cuisine-geneve.ch/details/cours-chasse-6/
CATEGORIES:Cours de cuisine
ATTACH;FMTTYPE=image/jpeg:https://dev21.cours-de-cuisine-geneve.ch/wp-content/uploads/2017/05/cours-de-cuisine-atelier-des-chefs-geneve.jpg
ORGANIZER;CN="Ateliers%20by%20Serge%20Labrosse":MAILTO:contact@ateliersbysergelabrosse.ch
END:VEVENT
END:VCALENDAR