BEGIN:VCALENDAR
VERSION:2.0
PRODID:-//Cours de cuisine By Serge Labrosse - ECPv5.8.0//NONSGML v1.0//EN
CALSCALE:GREGORIAN
METHOD:PUBLISH
X-WR-CALNAME:Cours de cuisine By Serge Labrosse
X-ORIGINAL-URL:https://dev21.cours-de-cuisine-geneve.ch
X-WR-CALDESC:évènements pour Cours de cuisine By Serge Labrosse
BEGIN:VTIMEZONE
TZID:Europe/Paris
BEGIN:DAYLIGHT
TZOFFSETFROM:+0100
TZOFFSETTO:+0200
TZNAME:CEST
DTSTART:20180325T010000
END:DAYLIGHT
BEGIN:STANDARD
TZOFFSETFROM:+0200
TZOFFSETTO:+0100
TZNAME:CET
DTSTART:20181028T010000
END:STANDARD
END:VTIMEZONE
BEGIN:VEVENT
DTSTART;TZID=Europe/Paris:20180925T190000
DTEND;TZID=Europe/Paris:20180925T220000
DTSTAMP:20260420T040235
CREATED:20180613T112253Z
LAST-MODIFIED:20180613T112253Z
UID:8273-1537902000-1537912800@dev21.cours-de-cuisine-geneve.ch
SUMMARY:Cours Chasse
DESCRIPTION:Venez profiter de la saison de la chasse\, apprendre techniques et recettes gourmandes  dans une ambiance conviviale \nSuprême de Faisan rôti\, pickles  et bouillon de champignons\n…\nSelle de Chevreuil rôti et laqué au jus de fruit rouge\, palet de pomme de terre confit et jus au porto et poivre\n…\nPoires confites\, crumble aux cèpes et siphon  vanille \nLe prix de cet atelier comprend : la préparation\, le menu et 3 verres de vin
URL:https://dev21.cours-de-cuisine-geneve.ch/details/cours-chasse-3/
CATEGORIES:Cours de cuisine
ATTACH;FMTTYPE=image/jpeg:https://dev21.cours-de-cuisine-geneve.ch/wp-content/uploads/2018/02/lamb-3032042_1920.jpg
ORGANIZER;CN="Ateliers%20by%20Serge%20Labrosse":MAILTO:contact@ateliersbysergelabrosse.ch
END:VEVENT
END:VCALENDAR