BEGIN:VCALENDAR
VERSION:2.0
PRODID:-//Cours de cuisine By Serge Labrosse - ECPv5.8.0//NONSGML v1.0//EN
CALSCALE:GREGORIAN
METHOD:PUBLISH
X-WR-CALNAME:Cours de cuisine By Serge Labrosse
X-ORIGINAL-URL:https://dev21.cours-de-cuisine-geneve.ch
X-WR-CALDESC:évènements pour Cours de cuisine By Serge Labrosse
BEGIN:VTIMEZONE
TZID:Europe/Paris
BEGIN:DAYLIGHT
TZOFFSETFROM:+0100
TZOFFSETTO:+0200
TZNAME:CEST
DTSTART:20170326T010000
END:DAYLIGHT
BEGIN:STANDARD
TZOFFSETFROM:+0200
TZOFFSETTO:+0100
TZNAME:CET
DTSTART:20171029T010000
END:STANDARD
END:VTIMEZONE
BEGIN:VEVENT
DTSTART;TZID=Europe/Paris:20171026T190000
DTEND;TZID=Europe/Paris:20171026T220000
DTSTAMP:20260419T184931
CREATED:20170620T184423Z
LAST-MODIFIED:20170620T184423Z
UID:5643-1509044400-1509055200@dev21.cours-de-cuisine-geneve.ch
SUMMARY:Cours Chasse
DESCRIPTION:Lors de cette session vous cuisinerez  la chasse dans tout ces états. Autour de recette originale\, notre chef vous guidera afin que vous puissiez reproduire ces mets chez vous. \nAu menu: \nTartare de biche légèrement fumé\, betterave et groseille\n…\nFine polenta au confit de lièvre et truffe\n…\nCôte de sanglier rôtie et laquée au poivre\, poire pochée et foie gras\n…\nFigue rôtie et cornet au charbon à la crème infusée à la cannelle \nVous apprendrez: \nFumer de la viande\nRéaliser une raviole ouverte de polenta\nLaqué une viande \nCompris dans ce tarif : La préparation et la dégustation des mets\, 3 verres de vins.
URL:https://dev21.cours-de-cuisine-geneve.ch/details/cours-chasse-2/
CATEGORIES:Cours de cuisine
ATTACH;FMTTYPE=image/jpeg:https://dev21.cours-de-cuisine-geneve.ch/wp-content/uploads/2017/05/cours-de-cuisine-atelier-des-chefs-geneve.jpg
ORGANIZER;CN="Ateliers%20by%20Serge%20Labrosse":MAILTO:contact@ateliersbysergelabrosse.ch
END:VEVENT
END:VCALENDAR