BEGIN:VCALENDAR
VERSION:2.0
PRODID:-//Cours de cuisine By Serge Labrosse - ECPv5.8.0//NONSGML v1.0//EN
CALSCALE:GREGORIAN
METHOD:PUBLISH
X-WR-CALNAME:Cours de cuisine By Serge Labrosse
X-ORIGINAL-URL:https://dev21.cours-de-cuisine-geneve.ch
X-WR-CALDESC:évènements pour Cours de cuisine By Serge Labrosse
BEGIN:VTIMEZONE
TZID:Europe/Paris
BEGIN:DAYLIGHT
TZOFFSETFROM:+0100
TZOFFSETTO:+0200
TZNAME:CEST
DTSTART:20180325T010000
END:DAYLIGHT
BEGIN:STANDARD
TZOFFSETFROM:+0200
TZOFFSETTO:+0100
TZNAME:CET
DTSTART:20181028T010000
END:STANDARD
END:VTIMEZONE
BEGIN:VEVENT
DTSTART;TZID=Europe/Paris:20180516T190000
DTEND;TZID=Europe/Paris:20180516T223000
DTSTAMP:20260420T095047
CREATED:20180409T154546Z
LAST-MODIFIED:20180409T154546Z
UID:7820-1526497200-1526509800@dev21.cours-de-cuisine-geneve.ch
SUMMARY:Cours Bouillabaisse
DESCRIPTION:Plat traditionnel du Sud de la France\, c’est un bouquet de saveurs de la mer que l’on déguste dans une assiette de Bouillabaisse. Venez la revisitez le temps de cet atelier ! \nFine gelée de bouillabaisse\, rouget à cru et fenouil\n***\nBar grillé et salicorne\, pomme fondante au safran\nLotte rôtie\, pommade d’artichaut et soupe de poissons\nLangoustine juste saisie\, vierge et rouille\n***\nRhubarbe pochée\, sarrasin et glace minute \nLe montant de cet atelier comprend : la préparation\, le menu et 3 verres de vins
URL:https://dev21.cours-de-cuisine-geneve.ch/details/cours-bouillabaisse/
CATEGORIES:Cours de cuisine
ATTACH;FMTTYPE=image/jpeg:https://dev21.cours-de-cuisine-geneve.ch/wp-content/uploads/2018/04/McKees_Bouillabaisse.jpg
ORGANIZER;CN="Ateliers%20by%20Serge%20Labrosse":MAILTO:contact@ateliersbysergelabrosse.ch
END:VEVENT
END:VCALENDAR