BEGIN:VCALENDAR
VERSION:2.0
PRODID:-//Cours de cuisine By Serge Labrosse - ECPv5.8.0//NONSGML v1.0//EN
CALSCALE:GREGORIAN
METHOD:PUBLISH
X-WR-CALNAME:Cours de cuisine By Serge Labrosse
X-ORIGINAL-URL:https://dev21.cours-de-cuisine-geneve.ch
X-WR-CALDESC:évènements pour Cours de cuisine By Serge Labrosse
BEGIN:VTIMEZONE
TZID:Europe/Paris
BEGIN:DAYLIGHT
TZOFFSETFROM:+0100
TZOFFSETTO:+0200
TZNAME:CEST
DTSTART:20180325T010000
END:DAYLIGHT
BEGIN:STANDARD
TZOFFSETFROM:+0200
TZOFFSETTO:+0100
TZNAME:CET
DTSTART:20181028T010000
END:STANDARD
END:VTIMEZONE
BEGIN:VEVENT
DTSTART;TZID=Europe/Paris:20180110T190000
DTEND;TZID=Europe/Paris:20180110T220000
DTSTAMP:20260420T112604
CREATED:20171204T131841Z
LAST-MODIFIED:20171218T180003Z
UID:6729-1515610800-1515621600@dev21.cours-de-cuisine-geneve.ch
SUMMARY:Cours autour du Loup !
DESCRIPTION:Poisson de mer connu également sous le nom de Bar\, le Loup a une chair délicate et peut être préparé de nombreuses façons. Cet atelier vous proposera 3 recettes originales et faciles à refaire lors de repas de famille ou avec vos amis ! \nTartare de Bar au sésame\, espuma d’avocat et tuile dentelle\n***\n Bar fumé et mariné en fines tanches\, poireau et raifort\n***\n Bar rôti\, crème de chou-fleur et noisettes \nLe montant de cet atelier comprend : la préparation\, le menu et 3 verres de vins
URL:https://dev21.cours-de-cuisine-geneve.ch/details/cours-autour-du-loup/
CATEGORIES:Cours de cuisine
ATTACH;FMTTYPE=image/jpeg:https://dev21.cours-de-cuisine-geneve.ch/wp-content/uploads/2017/05/cours-cuisine-japonaise-geneve.jpg
ORGANIZER;CN="Ateliers%20by%20Serge%20Labrosse":MAILTO:contact@ateliersbysergelabrosse.ch
END:VEVENT
END:VCALENDAR