BEGIN:VCALENDAR
VERSION:2.0
PRODID:-//Cours de cuisine By Serge Labrosse - ECPv5.8.0//NONSGML v1.0//EN
CALSCALE:GREGORIAN
METHOD:PUBLISH
X-WR-CALNAME:Cours de cuisine By Serge Labrosse
X-ORIGINAL-URL:https://dev21.cours-de-cuisine-geneve.ch
X-WR-CALDESC:évènements pour Cours de cuisine By Serge Labrosse
BEGIN:VTIMEZONE
TZID:Europe/Paris
BEGIN:DAYLIGHT
TZOFFSETFROM:+0100
TZOFFSETTO:+0200
TZNAME:CEST
DTSTART:20180325T010000
END:DAYLIGHT
BEGIN:STANDARD
TZOFFSETFROM:+0200
TZOFFSETTO:+0100
TZNAME:CET
DTSTART:20181028T010000
END:STANDARD
END:VTIMEZONE
BEGIN:VEVENT
DTSTART;TZID=Europe/Paris:20180201T190000
DTEND;TZID=Europe/Paris:20180201T220000
DTSTAMP:20260420T022222
CREATED:20171207T160330Z
LAST-MODIFIED:20171218T174722Z
UID:6806-1517511600-1517522400@dev21.cours-de-cuisine-geneve.ch
SUMMARY:Cours autour du bœuf
DESCRIPTION:Il n’y a pas que dans le cochon que tout est bon ! Pour les amateurs de viande rouge\, venez le goûter sous toutes les coutures ! \nMoelle panée\, tapenade de truffe et crème verte\n***\nBarre croustillante de risotto\, fine tranche de rumsteak et céleri\n***\nFilet de Bœuf au foie gras\, pomme purée aérienne et jus minute\n***\nMangue en différentes textures et goa cress \nLe montant de cet atelier comprend : la préparation\, le menu et 3 verres de vin
URL:https://dev21.cours-de-cuisine-geneve.ch/details/cours-autour-du-boeuf/
CATEGORIES:Cours de cuisine
ATTACH;FMTTYPE=image/jpeg:https://dev21.cours-de-cuisine-geneve.ch/wp-content/uploads/2017/05/cours-cuisine-atelier-viande-gneve.jpg
ORGANIZER;CN="Ateliers%20by%20Serge%20Labrosse":MAILTO:contact@ateliersbysergelabrosse.ch
END:VEVENT
END:VCALENDAR