BEGIN:VCALENDAR
VERSION:2.0
PRODID:-//Cours de cuisine By Serge Labrosse - ECPv5.8.0//NONSGML v1.0//EN
CALSCALE:GREGORIAN
METHOD:PUBLISH
X-WR-CALNAME:Cours de cuisine By Serge Labrosse
X-ORIGINAL-URL:https://dev21.cours-de-cuisine-geneve.ch
X-WR-CALDESC:évènements pour Cours de cuisine By Serge Labrosse
BEGIN:VTIMEZONE
TZID:Europe/Paris
BEGIN:DAYLIGHT
TZOFFSETFROM:+0100
TZOFFSETTO:+0200
TZNAME:CEST
DTSTART:20180325T010000
END:DAYLIGHT
BEGIN:STANDARD
TZOFFSETFROM:+0200
TZOFFSETTO:+0100
TZNAME:CET
DTSTART:20181028T010000
END:STANDARD
END:VTIMEZONE
BEGIN:VEVENT
DTSTART;TZID=Europe/Paris:20180424T190000
DTEND;TZID=Europe/Paris:20180424T220000
DTSTAMP:20260420T035726
CREATED:20180304T190934Z
LAST-MODIFIED:20180304T190934Z
UID:7543-1524596400-1524607200@dev21.cours-de-cuisine-geneve.ch
SUMMARY:Cours 100% Asperges
DESCRIPTION:Le printemps est de retour et les asperges ont montré le bouts de leurs “griffes”. Savoureuses et pouvant se consommer en entrées ou en plat\, vous découvrirez des recettes savoureuses qui ne gâcheront pas son goût si subtil et particulier. \nAsperges vertes grillées\nEspuma de yaourt\, gel de citron et sarrasin grillé\n***\nSuprême de volaille rôtie\nMorilles fumées et crème d’asperges\n***\n Crème prise infusée à l’estragon\nFramboise et tuile au charbon \nLe montant de cet atelier comprend : la préparation\, le menu et 3 verres de vin
URL:https://dev21.cours-de-cuisine-geneve.ch/details/cours-asperges/
CATEGORIES:Cours de cuisine
ATTACH;FMTTYPE=image/jpeg:https://dev21.cours-de-cuisine-geneve.ch/wp-content/uploads/2018/03/asparagus-2178164_1920.jpg
ORGANIZER;CN="Ateliers%20by%20Serge%20Labrosse":MAILTO:contact@ateliersbysergelabrosse.ch
END:VEVENT
END:VCALENDAR