BEGIN:VCALENDAR
VERSION:2.0
PRODID:-//Cours de cuisine By Serge Labrosse - ECPv5.8.0//NONSGML v1.0//EN
CALSCALE:GREGORIAN
METHOD:PUBLISH
X-WR-CALNAME:Cours de cuisine By Serge Labrosse
X-ORIGINAL-URL:https://dev21.cours-de-cuisine-geneve.ch
X-WR-CALDESC:évènements pour Cours de cuisine By Serge Labrosse
BEGIN:VTIMEZONE
TZID:Europe/Paris
BEGIN:DAYLIGHT
TZOFFSETFROM:+0100
TZOFFSETTO:+0200
TZNAME:CEST
DTSTART:20190331T010000
END:DAYLIGHT
BEGIN:STANDARD
TZOFFSETFROM:+0200
TZOFFSETTO:+0100
TZNAME:CET
DTSTART:20191027T010000
END:STANDARD
END:VTIMEZONE
BEGIN:VEVENT
DTSTART;TZID=Europe/Paris:20190117T190000
DTEND;TZID=Europe/Paris:20190117T223000
DTSTAMP:20260420T043636
CREATED:20181207T205633Z
LAST-MODIFIED:20181207T205640Z
UID:9218-1547751600-1547764200@dev21.cours-de-cuisine-geneve.ch
SUMMARY:Cours 100% Viandes
DESCRIPTION:Ce cours entièrement consacré à la chair animale vous fera découvrir diverses techniques et préparations afin de sublimer et respecter ce produit noble qu’est la viande. \nAu menu : \nRis de veau  rôti et topinambours \nCanard à la poudre de caramel et patate douce \nSuprême de volaille farcie aux champignons et risotto au vieux parmesan \nPavé de bœuf poché au vin rouge et espuma de pomme de terre \n  \nCompris dans ce tarif : La préparation et la dégustation des mets\, 2 verres de vins.
URL:https://dev21.cours-de-cuisine-geneve.ch/details/cours-100-viandes-4/
CATEGORIES:Cours de cuisine
ATTACH;FMTTYPE=image/jpeg:https://dev21.cours-de-cuisine-geneve.ch/wp-content/uploads/2018/03/information_items_22073.jpg
ORGANIZER;CN="Ateliers%20by%20Serge%20Labrosse":MAILTO:contact@ateliersbysergelabrosse.ch
END:VEVENT
END:VCALENDAR