BEGIN:VCALENDAR
VERSION:2.0
PRODID:-//Cours de cuisine By Serge Labrosse - ECPv5.8.0//NONSGML v1.0//EN
CALSCALE:GREGORIAN
METHOD:PUBLISH
X-WR-CALNAME:Cours de cuisine By Serge Labrosse
X-ORIGINAL-URL:https://dev21.cours-de-cuisine-geneve.ch
X-WR-CALDESC:évènements pour Cours de cuisine By Serge Labrosse
BEGIN:VTIMEZONE
TZID:Europe/Paris
BEGIN:DAYLIGHT
TZOFFSETFROM:+0100
TZOFFSETTO:+0200
TZNAME:CEST
DTSTART:20180325T010000
END:DAYLIGHT
BEGIN:STANDARD
TZOFFSETFROM:+0200
TZOFFSETTO:+0100
TZNAME:CET
DTSTART:20181028T010000
END:STANDARD
END:VTIMEZONE
BEGIN:VEVENT
DTSTART;TZID=Europe/Paris:20180905T190000
DTEND;TZID=Europe/Paris:20180905T220000
DTSTAMP:20260420T043645
CREATED:20180613T093547Z
LAST-MODIFIED:20180613T093547Z
UID:8241-1536174000-1536184800@dev21.cours-de-cuisine-geneve.ch
SUMMARY:Cours 100% Viandes
DESCRIPTION:Cet atelier vous propose des recettes de viandes savoureuses et originales. Saler avant ou après la cuisson? Saisir la viande?\nLa cuisson des viandes n’aura plus de secrets pour vous! \n  \nFoie gras poêlé puis poché\, bouillon thaï\, chips de riz soufflé et yuzu\n ***\nSuprême de volaille farci aux champignons et fregola sarda\n ***\nParmentier de confit de Boeuf\, émulsion de pomme de terre au parfum de truffe\n***\nFilet de canette rôti\, figue laquée au balsamique \n  \nLe montant de cet atelier comprend : la préparation\, le menu et 3 verres de vin
URL:https://dev21.cours-de-cuisine-geneve.ch/details/cours-100-viandes-2/
CATEGORIES:Cours de cuisine
ATTACH;FMTTYPE=image/jpeg:https://dev21.cours-de-cuisine-geneve.ch/wp-content/uploads/2017/05/cours-cuisine-atelier-viande-gneve.jpg
ORGANIZER;CN="Ateliers%20by%20Serge%20Labrosse":MAILTO:contact@ateliersbysergelabrosse.ch
END:VEVENT
END:VCALENDAR