BEGIN:VCALENDAR
VERSION:2.0
PRODID:-//Cours de cuisine By Serge Labrosse - ECPv5.8.0//NONSGML v1.0//EN
CALSCALE:GREGORIAN
METHOD:PUBLISH
X-WR-CALNAME:Cours de cuisine By Serge Labrosse
X-ORIGINAL-URL:https://dev21.cours-de-cuisine-geneve.ch
X-WR-CALDESC:évènements pour Cours de cuisine By Serge Labrosse
BEGIN:VTIMEZONE
TZID:Europe/Paris
BEGIN:DAYLIGHT
TZOFFSETFROM:+0100
TZOFFSETTO:+0200
TZNAME:CEST
DTSTART:20190331T010000
END:DAYLIGHT
BEGIN:STANDARD
TZOFFSETFROM:+0200
TZOFFSETTO:+0100
TZNAME:CET
DTSTART:20191027T010000
END:STANDARD
END:VTIMEZONE
BEGIN:VEVENT
DTSTART;TZID=Europe/Paris:20190206T190000
DTEND;TZID=Europe/Paris:20190206T223000
DTSTAMP:20260419T201835
CREATED:20181207T210243Z
LAST-MODIFIED:20181207T210250Z
UID:9228-1549479600-1549492200@dev21.cours-de-cuisine-geneve.ch
SUMMARY:Cours 100% poissons and Co
DESCRIPTION:Cru\, cuit\, poché rôti … le poisson se déguste sous toutes les coutures. Autour de recettes originales et savoureuses\, venez apprendre les techniques pour ne pas rater la préparation de vos plats de poissons & Co \nTartare de truite\n Panna cotta au raifort\, huile verte et pickles\n ***\n Saint-Jacques rôties\n Bouillon au yuzu et petits navets\n ***\nComme une tarte au citron \nLe montant de cet atelier comprend : la préparation\, le menu et 3 verres de vins
URL:https://dev21.cours-de-cuisine-geneve.ch/details/cours-100-poissons-and-co-2/
CATEGORIES:Cours de cuisine
ATTACH;FMTTYPE=image/jpeg:https://dev21.cours-de-cuisine-geneve.ch/wp-content/uploads/2018/02/coquilles-saint-jacques-2681146_1920.jpg
ORGANIZER;CN="Ateliers%20by%20Serge%20Labrosse":MAILTO:contact@ateliersbysergelabrosse.ch
END:VEVENT
END:VCALENDAR