BEGIN:VCALENDAR
VERSION:2.0
PRODID:-//Cours de cuisine By Serge Labrosse - ECPv5.8.0//NONSGML v1.0//EN
CALSCALE:GREGORIAN
METHOD:PUBLISH
X-WR-CALNAME:Cours de cuisine By Serge Labrosse
X-ORIGINAL-URL:https://dev21.cours-de-cuisine-geneve.ch
X-WR-CALDESC:évènements pour Cours de cuisine By Serge Labrosse
BEGIN:VTIMEZONE
TZID:Europe/Paris
BEGIN:DAYLIGHT
TZOFFSETFROM:+0100
TZOFFSETTO:+0200
TZNAME:CEST
DTSTART:20170326T010000
END:DAYLIGHT
BEGIN:STANDARD
TZOFFSETFROM:+0200
TZOFFSETTO:+0100
TZNAME:CET
DTSTART:20171029T010000
END:STANDARD
END:VTIMEZONE
BEGIN:VEVENT
DTSTART;TZID=Europe/Paris:20171218T190000
DTEND;TZID=Europe/Paris:20171218T220000
DTSTAMP:20260420T095144
CREATED:20171030T140546Z
LAST-MODIFIED:20171030T140546Z
UID:6586-1513623600-1513634400@dev21.cours-de-cuisine-geneve.ch
SUMMARY:Cours 100% Foie gras
DESCRIPTION:S’il est un ingrédient qui est synonyme de fêtes\, c’est bien le foie gras ! Cru\, cuit\, mi-cuit ou poêlé\, le foie gras possède une place de choix lors des repas de fêtes\, apprenez à préparer une terrine de foie gras facile à refaire à la maison et un chutney que vous pourrez prendre chez vous. \nAu menu: \nCrème de foie gras\, topinambours confit\, noisettes et émulsion au café \nTerrine maison à emporter à la maison\, chutney de figues \nFoie gras poêlé\, mangue rôtie à la vanille\, tuile au charbon végétale et fruit de la passion \nVous apprendrez: \n-Dénerver un foie gras\n-Poêlé un foie gras\n– Réaliser une crème de foie gras
URL:https://dev21.cours-de-cuisine-geneve.ch/details/cours-100-foie-gras-2/
CATEGORIES:Cours de cuisine
ATTACH;FMTTYPE=image/jpeg:https://dev21.cours-de-cuisine-geneve.ch/wp-content/uploads/2017/10/foie-gras-canard-entier-2-poivres-sudreau-zoom.jpg
ORGANIZER;CN="Ateliers%20by%20Serge%20Labrosse":MAILTO:contact@ateliersbysergelabrosse.ch
END:VEVENT
END:VCALENDAR