BEGIN:VCALENDAR
VERSION:2.0
PRODID:-//Cours de cuisine By Serge Labrosse - ECPv5.8.0//NONSGML v1.0//EN
CALSCALE:GREGORIAN
METHOD:PUBLISH
X-WR-CALNAME:Cours de cuisine By Serge Labrosse
X-ORIGINAL-URL:https://dev21.cours-de-cuisine-geneve.ch
X-WR-CALDESC:évènements pour Cours de cuisine By Serge Labrosse
BEGIN:VTIMEZONE
TZID:Europe/Paris
BEGIN:DAYLIGHT
TZOFFSETFROM:+0100
TZOFFSETTO:+0200
TZNAME:CEST
DTSTART:20190331T010000
END:DAYLIGHT
BEGIN:STANDARD
TZOFFSETFROM:+0200
TZOFFSETTO:+0100
TZNAME:CET
DTSTART:20191027T010000
END:STANDARD
END:VTIMEZONE
BEGIN:VEVENT
DTSTART;TZID=Europe/Paris:20191013T190000
DTEND;TZID=Europe/Paris:20191013T223000
DTSTAMP:20260419T153013
CREATED:20190723T190238Z
LAST-MODIFIED:20190925T110704Z
UID:11966-1570993200-1571005800@dev21.cours-de-cuisine-geneve.ch
SUMMARY:COURS DE CUISINE JAPONAISE
DESCRIPTION:Venez découvrir ou redécouvrir les saveurs du pays du Soleil-Levant. \nAvec notre chef invité Yoshi\, réalisez différents plats de tradition. \nIl vous apprendra techniques et savoir-faire afin de réaliser chez vous de délicieux mets japonais. \n Raviolis végétariens aux 5 légumes \n Kakiyagé ( beignets aux fruits de mer ) \nÉpinard aux sésame \nSushis futomaki ( grands norimakis avec œufs de saumon crevettes concombre avocat ) \nLe montant de cet atelier comprend : la préparation\, la dégustation des plats et les fiches recettes
URL:https://dev21.cours-de-cuisine-geneve.ch/details/cour-de-cuisine-japonais-2/
LOCATION:Yoshi\, Rue Prévost Martin 8\, Genève\, 1205\, Suisse
CATEGORIES:Cours de cuisine,Yoshi
ATTACH;FMTTYPE=image/jpeg:https://dev21.cours-de-cuisine-geneve.ch/wp-content/uploads/2019/07/japonais.jpg
ORGANIZER;CN="Ateliers%20by%20Serge%20Labrosse":MAILTO:contact@ateliersbysergelabrosse.ch
END:VEVENT
END:VCALENDAR