BEGIN:VCALENDAR
VERSION:2.0
PRODID:-//Cours de cuisine By Serge Labrosse - ECPv5.8.0//NONSGML v1.0//EN
CALSCALE:GREGORIAN
METHOD:PUBLISH
X-WR-CALNAME:Cours de cuisine By Serge Labrosse
X-ORIGINAL-URL:https://dev21.cours-de-cuisine-geneve.ch
X-WR-CALDESC:évènements pour Cours de cuisine By Serge Labrosse
BEGIN:VTIMEZONE
TZID:Europe/Paris
BEGIN:DAYLIGHT
TZOFFSETFROM:+0100
TZOFFSETTO:+0200
TZNAME:CEST
DTSTART:20180325T010000
END:DAYLIGHT
BEGIN:STANDARD
TZOFFSETFROM:+0200
TZOFFSETTO:+0100
TZNAME:CET
DTSTART:20181028T010000
END:STANDARD
END:VTIMEZONE
BEGIN:VEVENT
DTSTART;TZID=Europe/Paris:20180413T190000
DTEND;TZID=Europe/Paris:20180413T220000
DTSTAMP:20260419T231523
CREATED:20180304T175106Z
LAST-MODIFIED:20180304T175216Z
UID:7509-1523646000-1523656800@dev21.cours-de-cuisine-geneve.ch
SUMMARY:Les Classiques du "Bistrot"
DESCRIPTION:Adepte de la cuisine “Bistrot”\, venez apprendre à préparer des plats savoureux et gourmands … dont vous ne pourrez plus vous passer. A faire et refaire ! \nComme une salade de pomme de terre\, maquereau fumé et asperges en vinaigrette\n ***\nBelle côte de bœuf rôtie\, pomme pont-neuf et béarnaise\n ***\nIle flottante au parfum de fève tonka \nLe montant de cet atelier comprend : la préparation\, le menu et 3 verres de vins
URL:https://dev21.cours-de-cuisine-geneve.ch/details/classiques-bistrot/
CATEGORIES:Cours de cuisine
ATTACH;FMTTYPE=image/jpeg:https://dev21.cours-de-cuisine-geneve.ch/wp-content/uploads/2017/05/cours-de-cuisine-grand-chef-geneve.jpg
ORGANIZER;CN="Ateliers%20by%20Serge%20Labrosse":MAILTO:contact@ateliersbysergelabrosse.ch
END:VEVENT
END:VCALENDAR