BEGIN:VCALENDAR
VERSION:2.0
PRODID:-//Cours de cuisine By Serge Labrosse - ECPv5.8.0//NONSGML v1.0//EN
CALSCALE:GREGORIAN
METHOD:PUBLISH
X-WR-CALNAME:Cours de cuisine By Serge Labrosse
X-ORIGINAL-URL:https://dev21.cours-de-cuisine-geneve.ch
X-WR-CALDESC:évènements pour Cours de cuisine By Serge Labrosse
BEGIN:VTIMEZONE
TZID:Europe/Paris
BEGIN:DAYLIGHT
TZOFFSETFROM:+0100
TZOFFSETTO:+0200
TZNAME:CEST
DTSTART:20190331T010000
END:DAYLIGHT
BEGIN:STANDARD
TZOFFSETFROM:+0200
TZOFFSETTO:+0100
TZNAME:CET
DTSTART:20191027T010000
END:STANDARD
END:VTIMEZONE
BEGIN:VEVENT
DTSTART;TZID=Europe/Paris:20191018T140000
DTEND;TZID=Europe/Paris:20191018T170000
DTSTAMP:20260419T235705
CREATED:20190728T042704Z
LAST-MODIFIED:20190925T114731Z
UID:12016-1571407200-1571418000@dev21.cours-de-cuisine-geneve.ch
SUMMARY:Boulangerie: pains\, croissants\, pain aux chocolats
DESCRIPTION:La Maison Du Carac\, vous propose de transmettre ses plus belles recettes \nUn pain au levain \, un pain aux fruits secs \nPain aux chocolat grand cru “Grand Maracaïbo” \nCroissant au beurre \nMédaillé de bronze du canton de Genève \nChevalier du bon pain avec deux Etoiles \nCe boulanger plein de talent partage sa technique\, son art avec passion
URL:https://dev21.cours-de-cuisine-geneve.ch/details/boulangerie-pains-croissants-pain-aux-chocolats-3/
CATEGORIES:Cours de Boulangerie,Cours pâtisserie
ATTACH;FMTTYPE=image/jpeg:https://dev21.cours-de-cuisine-geneve.ch/wp-content/uploads/2019/07/boulangerie.jpg
ORGANIZER;CN="Ateliers%20by%20Serge%20Labrosse":MAILTO:contact@ateliersbysergelabrosse.ch
END:VEVENT
END:VCALENDAR