BEGIN:VCALENDAR
VERSION:2.0
PRODID:-//Cours de cuisine By Serge Labrosse - ECPv5.8.0//NONSGML v1.0//EN
CALSCALE:GREGORIAN
METHOD:PUBLISH
X-WR-CALNAME:Cours de cuisine By Serge Labrosse
X-ORIGINAL-URL:https://dev21.cours-de-cuisine-geneve.ch
X-WR-CALDESC:évènements pour Cours de cuisine By Serge Labrosse
BEGIN:VTIMEZONE
TZID:Europe/Paris
BEGIN:DAYLIGHT
TZOFFSETFROM:+0100
TZOFFSETTO:+0200
TZNAME:CEST
DTSTART:20190331T010000
END:DAYLIGHT
BEGIN:STANDARD
TZOFFSETFROM:+0200
TZOFFSETTO:+0100
TZNAME:CET
DTSTART:20191027T010000
END:STANDARD
END:VTIMEZONE
BEGIN:VEVENT
DTSTART;TZID=Europe/Paris:20190924T140000
DTEND;TZID=Europe/Paris:20190924T170000
DTSTAMP:20260419T232229
CREATED:20190728T041937Z
LAST-MODIFIED:20190907T185900Z
UID:12011-1569333600-1569344400@dev21.cours-de-cuisine-geneve.ch
SUMMARY:Boulangerie: pains\, croissants\, pain aux chocolats
DESCRIPTION:La Maison Du Carac\, vous propose de transmettre ses plus belles recettes \n*un pain au levain *un pain aux fruits secs \n*pain aux chocolat grand gru grand Maracaibo \n*croissants aux beurres \nMédaillé de bronze du canton de Geneve \n*chevalier du bon pain avec deux Etoiles \nSe boulanger pleins de talents partage sa technique\, son art avec passion
URL:https://dev21.cours-de-cuisine-geneve.ch/details/boulangerie-pains-croissants-pain-aux-chocolats-2/
CATEGORIES:Aurel Termini,Cours de Boulangerie,Cours pâtisserie
ATTACH;FMTTYPE=image/jpeg:https://dev21.cours-de-cuisine-geneve.ch/wp-content/uploads/2019/06/Baking.jpg
ORGANIZER;CN="Ateliers%20by%20Serge%20Labrosse":MAILTO:contact@ateliersbysergelabrosse.ch
END:VEVENT
END:VCALENDAR