BEGIN:VCALENDAR
VERSION:2.0
PRODID:-//Cours de cuisine By Serge Labrosse - ECPv5.8.0//NONSGML v1.0//EN
CALSCALE:GREGORIAN
METHOD:PUBLISH
X-WR-CALNAME:Cours de cuisine By Serge Labrosse
X-ORIGINAL-URL:https://dev21.cours-de-cuisine-geneve.ch
X-WR-CALDESC:évènements pour Cours de cuisine By Serge Labrosse
BEGIN:VTIMEZONE
TZID:Europe/Paris
BEGIN:DAYLIGHT
TZOFFSETFROM:+0100
TZOFFSETTO:+0200
TZNAME:CEST
DTSTART:20200329T010000
END:DAYLIGHT
BEGIN:STANDARD
TZOFFSETFROM:+0200
TZOFFSETTO:+0100
TZNAME:CET
DTSTART:20201025T010000
END:STANDARD
END:VTIMEZONE
BEGIN:VEVENT
DTSTART;TZID=Europe/Paris:20200612T183000
DTEND;TZID=Europe/Paris:20200612T223000
DTSTAMP:20260419T141514
CREATED:20200518T101452Z
LAST-MODIFIED:20200612T092143Z
UID:13984-1591986600-1592001000@dev21.cours-de-cuisine-geneve.ch
SUMMARY:Bistronomie !
DESCRIPTION:Née dans les années 90\, la bistronomie\, définie par un trio bons produits\, grande technique et convivialité\, a profondément participé à l’évolution de la gastronomie. Elle est aujourd’hui devenue un courant majeur de l’art culinaire. \nElle a d’abord remis le bon produit au coeur de l’assiette. En montrant que la grande cuisine n’était pas nécessairement dépendante de produits prestigieux. Souvent locavore\, elle s’est appliquée à faire la part belle aux petits producteurs et aux morceaux. \nLa convivialité sera donc un marqueur essentiel de cette soirée dédiée aux classiques \, sans chichis. \nLe menu  \nAmuse Bouche \nRiz soufflé\, sashimi de saumon\, beurre fumé\, ail noir \nTartare de Boeuf de Marcillon\, huile d’Estragon\, baie de Genièvre\, purée de Ziste\, Toasts. \nRicotta – abricots- Lavande \nInclus deux verres de vin\, gel\, gants et masques. \nSuite aux décisions du conseil fédéral\, la distanciation sociale se fera à table et la préparation des mets avec masques et gants dans des normes d’hygiène irréprochables.
URL:https://dev21.cours-de-cuisine-geneve.ch/details/bistronomie/
LOCATION:8 rue Prévost-Martin\, Genève\, 8 rue Prévost-Martin\, Genève\, Suisse
CATEGORIES:Aurel Termini,Cours de cuisine
ATTACH;FMTTYPE=image/jpeg:https://dev21.cours-de-cuisine-geneve.ch/wp-content/uploads/2020/05/bistronomie.jpeg
ORGANIZER;CN="Ateliers%20by%20Serge%20Labrosse":MAILTO:contact@ateliersbysergelabrosse.ch
END:VEVENT
END:VCALENDAR