BEGIN:VCALENDAR
VERSION:2.0
PRODID:-//Cours de cuisine By Serge Labrosse - ECPv5.8.0//NONSGML v1.0//EN
CALSCALE:GREGORIAN
METHOD:PUBLISH
X-WR-CALNAME:Cours de cuisine By Serge Labrosse
X-ORIGINAL-URL:https://dev21.cours-de-cuisine-geneve.ch
X-WR-CALDESC:évènements pour Cours de cuisine By Serge Labrosse
BEGIN:VTIMEZONE
TZID:Europe/Paris
BEGIN:DAYLIGHT
TZOFFSETFROM:+0100
TZOFFSETTO:+0200
TZNAME:CEST
DTSTART:20190331T010000
END:DAYLIGHT
BEGIN:STANDARD
TZOFFSETFROM:+0200
TZOFFSETTO:+0100
TZNAME:CET
DTSTART:20191027T010000
END:STANDARD
END:VTIMEZONE
BEGIN:VEVENT
DTSTART;TZID=Europe/Paris:20191024T183000
DTEND;TZID=Europe/Paris:20191024T223000
DTSTAMP:20260419T214847
CREATED:20190925T162537Z
LAST-MODIFIED:20190925T162537Z
UID:12508-1571941800-1571956200@dev21.cours-de-cuisine-geneve.ch
SUMMARY:Autour de la Coquille Saint Jacques
DESCRIPTION:Voilà Octobre\, enfin la saison de la Saint Jacques peut commencer ! \nFin produit\, iconique de la gastronomie française\, la coquille Saint Jacques se distingue de sa cousine la  Pétoncle par une finesse incomparable\, venez apprendre à apprêter puis cuisiner ce produit d’exception ! \n  \nCarpaccio de Saint Jacques\, crême d’avocat\, agrumes et pistaches \nNage Homardine\, cerfeuil tubéreux\, Avruga\, Saint Jacques pochées \nDessert : Moëlleux au Chocolat\, Glace au Chocolat au lait et piment d’Espelette \n  \nLe Dîner comprend deux verres de vin.
URL:https://dev21.cours-de-cuisine-geneve.ch/details/autour-de-la-coquille-saint-jacques/
LOCATION:8 rue Prévost-Martin\, Genève\, 8 rue Prévost-Martin\, Genève\, Suisse
CATEGORIES:Aurel Termini,Cours de cuisine
ATTACH;FMTTYPE=image/jpeg:https://dev21.cours-de-cuisine-geneve.ch/wp-content/uploads/2019/09/saint-jacques.jpg
ORGANIZER;CN="Ateliers%20by%20Serge%20Labrosse":MAILTO:contact@ateliersbysergelabrosse.ch
END:VEVENT
END:VCALENDAR