BEGIN:VCALENDAR
VERSION:2.0
PRODID:-//Cours de cuisine By Serge Labrosse - ECPv5.8.0//NONSGML v1.0//EN
CALSCALE:GREGORIAN
METHOD:PUBLISH
X-WR-CALNAME:Cours de cuisine By Serge Labrosse
X-ORIGINAL-URL:https://dev21.cours-de-cuisine-geneve.ch
X-WR-CALDESC:évènements pour Cours de cuisine By Serge Labrosse
BEGIN:VTIMEZONE
TZID:Europe/Paris
BEGIN:DAYLIGHT
TZOFFSETFROM:+0100
TZOFFSETTO:+0200
TZNAME:CEST
DTSTART:20190331T010000
END:DAYLIGHT
BEGIN:STANDARD
TZOFFSETFROM:+0200
TZOFFSETTO:+0100
TZNAME:CET
DTSTART:20191027T010000
END:STANDARD
END:VTIMEZONE
BEGIN:VEVENT
DTSTART;TZID=Europe/Paris:20191023T100000
DTEND;TZID=Europe/Paris:20191023T120000
DTSTAMP:20260419T234615
CREATED:20190925T133559Z
LAST-MODIFIED:20190925T140245Z
UID:12504-1571824800-1571832000@dev21.cours-de-cuisine-geneve.ch
SUMMARY:Atelier Enfant: Paris-Brest et éclairs
DESCRIPTION:La pâte à choux n’aura plus de secret pour vous ! \nAtelier pas-à-pas spécialement conçue pour les enfants\, dans une atmosphère ludique ! \nLaissez s’exprimer votre créativité ! Emportez le résultat chez vous !
URL:https://dev21.cours-de-cuisine-geneve.ch/details/atelier-enfant-paris-brest-et-eclairs/
LOCATION:8 rue Prévost-Martin\, Genève\, 8 rue Prévost-Martin\, Genève\, Suisse
ATTACH;FMTTYPE=image/jpeg:https://dev21.cours-de-cuisine-geneve.ch/wp-content/uploads/2019/09/eclair-enfant.jpg
ORGANIZER;CN="Ateliers%20by%20Serge%20Labrosse":MAILTO:contact@ateliersbysergelabrosse.ch
END:VEVENT
END:VCALENDAR