BEGIN:VCALENDAR
VERSION:2.0
PRODID:-//Cours de cuisine By Serge Labrosse - ECPv5.8.0//NONSGML v1.0//EN
CALSCALE:GREGORIAN
METHOD:PUBLISH
X-WR-CALNAME:Cours de cuisine By Serge Labrosse
X-ORIGINAL-URL:https://dev21.cours-de-cuisine-geneve.ch
X-WR-CALDESC:évènements pour Cours de cuisine By Serge Labrosse
BEGIN:VTIMEZONE
TZID:Europe/Paris
BEGIN:DAYLIGHT
TZOFFSETFROM:+0100
TZOFFSETTO:+0200
TZNAME:CEST
DTSTART:20170326T010000
END:DAYLIGHT
BEGIN:STANDARD
TZOFFSETFROM:+0200
TZOFFSETTO:+0100
TZNAME:CET
DTSTART:20171029T010000
END:STANDARD
END:VTIMEZONE
BEGIN:VEVENT
DTSTART;TZID=Europe/Paris:20171103T190000
DTEND;TZID=Europe/Paris:20171103T220000
DTSTAMP:20260419T153918
CREATED:20170620T175009Z
LAST-MODIFIED:20171102T094020Z
UID:5619-1509735600-1509746400@dev21.cours-de-cuisine-geneve.ch
SUMMARY:100% Viandes
DESCRIPTION:Ce cours entièrement consacré à la chair animale vous fera découvrir diverses techniques et préparations afin de sublimer et respecter ce produit noble qu’est la viande. \nAu menu : \nFoie gras poêlé et crème de topinambours \nCanard à la poudre de caramel et patate douce \nSuprême de volaille farcie aux champignons et risotto au vieux parmesan \nPoitrine de cochon croustillante\, réduction de tandoori et fagot d’enoki \nPavé de bœuf poché au vin rouge espuma de pomme de terre et shiso \nVous apprendrez : \n-Cuire du foie gras\n– Fumée une viande\n-Poché une viande dans du vin rouge \nCompris dans ce tarif : La préparation et la dégustation des mets\, 3 verres de vins.
URL:https://dev21.cours-de-cuisine-geneve.ch/details/100-viandes-7/
CATEGORIES:Cours de cuisine
ATTACH;FMTTYPE=image/jpeg:https://dev21.cours-de-cuisine-geneve.ch/wp-content/uploads/2017/05/cours-cuisine-atelier-viande-gneve.jpg
ORGANIZER;CN="Ateliers%20by%20Serge%20Labrosse":MAILTO:contact@ateliersbysergelabrosse.ch
END:VEVENT
END:VCALENDAR