BEGIN:VCALENDAR
VERSION:2.0
PRODID:-//Cours de cuisine By Serge Labrosse - ECPv5.8.0//NONSGML v1.0//EN
CALSCALE:GREGORIAN
METHOD:PUBLISH
X-WR-CALNAME:Cours de cuisine By Serge Labrosse
X-ORIGINAL-URL:https://dev21.cours-de-cuisine-geneve.ch
X-WR-CALDESC:évènements pour Cours de cuisine By Serge Labrosse
BEGIN:VTIMEZONE
TZID:Europe/Paris
BEGIN:DAYLIGHT
TZOFFSETFROM:+0100
TZOFFSETTO:+0200
TZNAME:CEST
DTSTART:20170326T010000
END:DAYLIGHT
BEGIN:STANDARD
TZOFFSETFROM:+0200
TZOFFSETTO:+0100
TZNAME:CET
DTSTART:20171029T010000
END:STANDARD
END:VTIMEZONE
BEGIN:VEVENT
DTSTART;TZID=Europe/Paris:20170810T190000
DTEND;TZID=Europe/Paris:20170810T220000
DTSTAMP:20260419T214130
CREATED:20170616T105435Z
LAST-MODIFIED:20170616T114455Z
UID:5440-1502391600-1502402400@dev21.cours-de-cuisine-geneve.ch
SUMMARY:100% Poissons
DESCRIPTION:Durant cette session\, vous découvrirez différentes façons d’apprêter le poisson.\nPoché\, au four\, ou même brûlé… \nAu menu :  \nMaquereau brûlé\, poivrons et chips dentelles\n…\nSaumon laqué à l’encre de Seiche\, chips de Carottes et Oseille\n…\nRouget poché au bouillon thaï\, sabayon au curry et finger de risotto croustillant\n…\nAvocat et banane flambée au rhum sur un fin brownie \nVous apprendrez : \n-Cuire un poisson à l’aide d’un chalumeau\n-Poché un poisson dans un bouillon\n-Réaliser un laquage à base d’un fumet de poisson \nCompris dans ce tarif: Préparation des mets et dégustation de ceux-ci accompagné de 3 verres de vins
URL:https://dev21.cours-de-cuisine-geneve.ch/details/100-poissons/
CATEGORIES:Cours de cuisine
ATTACH;FMTTYPE=image/jpeg:https://dev21.cours-de-cuisine-geneve.ch/wp-content/uploads/2017/05/cours-de-cuisine-geneve-poisson.jpg
ORGANIZER;CN="Ateliers%20by%20Serge%20Labrosse":MAILTO:contact@ateliersbysergelabrosse.ch
END:VEVENT
END:VCALENDAR