BEGIN:VCALENDAR
VERSION:2.0
PRODID:-//Cours de cuisine By Serge Labrosse - ECPv5.8.0//NONSGML v1.0//EN
CALSCALE:GREGORIAN
METHOD:PUBLISH
X-WR-CALNAME:Cours de cuisine By Serge Labrosse
X-ORIGINAL-URL:https://dev21.cours-de-cuisine-geneve.ch
X-WR-CALDESC:évènements pour Cours de cuisine By Serge Labrosse
BEGIN:VTIMEZONE
TZID:Europe/Paris
BEGIN:DAYLIGHT
TZOFFSETFROM:+0100
TZOFFSETTO:+0200
TZNAME:CEST
DTSTART:20180325T010000
END:DAYLIGHT
BEGIN:STANDARD
TZOFFSETFROM:+0200
TZOFFSETTO:+0100
TZNAME:CET
DTSTART:20181028T010000
END:STANDARD
END:VTIMEZONE
BEGIN:VEVENT
DTSTART;TZID=Europe/Paris:20181031T190000
DTEND;TZID=Europe/Paris:20181031T223000
DTSTAMP:20260419T183942
CREATED:20180720T102827Z
LAST-MODIFIED:20180720T102827Z
UID:8429-1541012400-1541025000@dev21.cours-de-cuisine-geneve.ch
SUMMARY:100% Poissons
DESCRIPTION:Cru\, cuit\, poché rôti … le poisson se déguste sous toutes les coutures. Autour de recettes originales et savoureuses\, venez apprendre les techniques pour ne pas rater la préparation de vos plats de poissons & Co \nPoisson du lac confit\, soupe de poutargue et lentilles beluga\n…\nLotte rôtie au lard paysan\, pommade de topinambours et pétale d’oignons\n…\nChâtaignes\, mûres et meringue \n\nLe montant de cet atelier comprend : la préparation\, le menu et 3 verres de vins
URL:https://dev21.cours-de-cuisine-geneve.ch/details/100-poissons-7/
CATEGORIES:Cours de cuisine
ATTACH;FMTTYPE=image/jpeg:https://dev21.cours-de-cuisine-geneve.ch/wp-content/uploads/2015/03/1927_dl_photo_d991d.jpg
ORGANIZER;CN="Ateliers%20by%20Serge%20Labrosse":MAILTO:contact@ateliersbysergelabrosse.ch
END:VEVENT
END:VCALENDAR